BEGIN:VCALENDAR
VERSION:2.0
PRODID:-//Music Maker Workshops - ECPv6.15.20//NONSGML v1.0//EN
CALSCALE:GREGORIAN
METHOD:PUBLISH
X-ORIGINAL-URL:https://mmwaz.com
X-WR-CALDESC:Events for Music Maker Workshops
REFRESH-INTERVAL;VALUE=DURATION:PT1H
X-Robots-Tag:noindex
X-PUBLISHED-TTL:PT1H
BEGIN:VTIMEZONE
TZID:America/Phoenix
BEGIN:STANDARD
TZOFFSETFROM:-0700
TZOFFSETTO:-0700
TZNAME:MST
DTSTART:20230101T000000
END:STANDARD
END:VTIMEZONE
BEGIN:VEVENT
DTSTART;VALUE=DATE:20241001
DTEND;VALUE=DATE:20241101
DTSTAMP:20260422T155833
CREATED:20241009T202007Z
LAST-MODIFIED:20250212T090057Z
UID:10000377-1727740800-1730419199@mmwaz.com
SUMMARY:Potter Pet Drive
DESCRIPTION:We’re teaming up with YestoPets.org to host a Potter Pet Drive! Help us support pets in need by donating pet supplies. In true Harry Potter spirit\, we aim to make a little magic happen for these furry friends.
URL:https://mmwaz.com/events-2/potter-pet-drive/
LOCATION:Music Maker Workshops\, 3233 . E Chandler Blvd\,\, Arizona\, AZ\, 85048\, United States
CATEGORIES:Studio Event
ATTACH;FMTTYPE=image/webp:https://mmwaz.com/wp-content/uploads/2024/10/Potter-Flyer-6-1.webp
ORGANIZER;CN="Music Maker Workshops":MAILTO:lessons@mmwaz.com
END:VEVENT
BEGIN:VEVENT
DTSTART;VALUE=DATE:20241007
DTEND;VALUE=DATE:20241014
DTSTAMP:20260422T155833
CREATED:20241009T203720Z
LAST-MODIFIED:20241009T203720Z
UID:10000379-1728259200-1728863999@mmwaz.com
SUMMARY:Kid's Music Week: Bring a Friend to Lessons
DESCRIPTION:Bring a friend to your music lesson this week and share the joy of making music together! 🎹🎸🥁 Not only will you have a blast\, but they’ll also get a chance to win a FREE month of lessons! 🤩✨ *Registration Required
URL:https://mmwaz.com/events-2/kids-music-week-bring-a-friend-to-lessons/
LOCATION:Music Maker Workshops\, 3233 . E Chandler Blvd\,\, Arizona\, AZ\, 85048\, United States
CATEGORIES:Studio Event
ATTACH;FMTTYPE=image/png:https://mmwaz.com/wp-content/uploads/2024/10/Copy-of-kids-music-DAY-8.5-x-11-in-2.png
ORGANIZER;CN="Music Maker Workshops":MAILTO:lessons@mmwaz.com
END:VEVENT
BEGIN:VEVENT
DTSTART;TZID=America/Phoenix:20241013T130000
DTEND;TZID=America/Phoenix:20241013T150000
DTSTAMP:20260422T155833
CREATED:20241009T203144Z
LAST-MODIFIED:20241009T203144Z
UID:10000378-1728824400-1728831600@mmwaz.com
SUMMARY:Studio Open House Event
DESCRIPTION:Mark your calendars for our Studio Open House on October 13th from 1 to 3 PM! Explore our vibrant music space with studio tours\, enjoy fun arts & crafts\, and snack on some tasty treats. Plus\, we’re offering exciting giveaways\, and visitors will have the chance to win one month of FREE lessons! This is a great opportunity to check out the studio\, meet our instructors\, and discover how we can inspire your musical journey. The event is free to attend\, so bring the whole family!
URL:https://mmwaz.com/events-2/studio-open-house-event/
LOCATION:Music Maker Workshops\, 3233 . E Chandler Blvd\,\, Arizona\, AZ\, 85048\, United States
CATEGORIES:Studio Event
ATTACH;FMTTYPE=image/png:https://mmwaz.com/wp-content/uploads/2024/10/Instrument-Petting-Zoo-20-x-30-in-7.png
ORGANIZER;CN="Music Maker Workshops":MAILTO:lessons@mmwaz.com
END:VEVENT
END:VCALENDAR