BEGIN:VCALENDAR
VERSION:2.0
PRODID:-//Music Maker Workshops - ECPv6.15.20//NONSGML v1.0//EN
CALSCALE:GREGORIAN
METHOD:PUBLISH
X-ORIGINAL-URL:https://mmwaz.com
X-WR-CALDESC:Events for Music Maker Workshops
REFRESH-INTERVAL;VALUE=DURATION:PT1H
X-Robots-Tag:noindex
X-PUBLISHED-TTL:PT1H
BEGIN:VTIMEZONE
TZID:America/Phoenix
BEGIN:STANDARD
TZOFFSETFROM:-0700
TZOFFSETTO:-0700
TZNAME:MST
DTSTART:20230101T000000
END:STANDARD
END:VTIMEZONE
BEGIN:VEVENT
DTSTART;TZID=America/Phoenix:20241103T160000
DTEND;TZID=America/Phoenix:20241103T200000
DTSTAMP:20260422T055408
CREATED:20241009T200735Z
LAST-MODIFIED:20241025T174505Z
UID:10000376-1730649600-1730664000@mmwaz.com
SUMMARY:Potter Pizza Party at Main Event
DESCRIPTION:Join us for a magical evening at Main Event with a Harry Potter-themed pizza party! Expect fun games\, activities\, and a chance to connect with fellow music makers in a lively setting. Wands and costumes are optional\, but a love for pizza is mandatory! Students and families welcome to join. *Registration Required. \nFees includes \n\nAll you can play activities for 4 hours\nAn hour of bowling\n$10 fun card\nLaser tag\n2 slices of cheese pizza and soda\n\nParental supervision is mandatory. \nRegistration fee is required for anyone who wishes to participate (family members welcome to join). \nThis is a great opportunity to connect and celebrate this quarter’s achievements! \nREGISTRATION LINK
URL:https://mmwaz.com/events-2/potter-pizza-party-at-main-event/
LOCATION:Main Event Tempe\, 8545 S Emerald Dr\, Tempe\, 85284\, United States
CATEGORIES:Potter Party
ATTACH;FMTTYPE=image/jpeg:https://mmwaz.com/wp-content/uploads/2024/10/Potter-Flyer-5.jpg
ORGANIZER;CN="Music Maker Workshops":MAILTO:lessons@mmwaz.com
END:VEVENT
BEGIN:VEVENT
DTSTART;TZID=America/Phoenix:20241124T150000
DTEND;TZID=America/Phoenix:20241124T190000
DTSTAMP:20260422T055408
CREATED:20241009T195124Z
LAST-MODIFIED:20241105T001040Z
UID:10000374-1732460400-1732474800@mmwaz.com
SUMMARY:Rock Show at Tempe Marketplace
DESCRIPTION:Get ready to rock! Join us for Songs of the Nations at Tempe Marketplace\, where our talented students will take the stage to showcase their skills in an unforgettable live performance. From classic hits to modern jams\, you’ll be blown away by their talent and energy! The best part? The show is FREE\, so bring your friends and family to support these rising stars. Don’t miss out on an afternoon of great music and fun!
URL:https://mmwaz.com/events-2/rock-show-at-tempe-marketplace/
LOCATION:West Alley BBQ + Smokehouse\, 111 W Boston St\, Chandler\, AZ\, 85225\, United States
CATEGORIES:Rock Band
ATTACH;FMTTYPE=image/jpeg:https://mmwaz.com/wp-content/uploads/2024/10/MMW-Rock-Show-at-Tempe-Marketplace-2.jpg
ORGANIZER;CN="Music Maker Workshops":MAILTO:lessons@mmwaz.com
END:VEVENT
END:VCALENDAR