BEGIN:VCALENDAR
VERSION:2.0
PRODID:-//Music Maker Workshops - ECPv6.15.20//NONSGML v1.0//EN
CALSCALE:GREGORIAN
METHOD:PUBLISH
X-ORIGINAL-URL:https://mmwaz.com
X-WR-CALDESC:Events for Music Maker Workshops
REFRESH-INTERVAL;VALUE=DURATION:PT1H
X-Robots-Tag:noindex
X-PUBLISHED-TTL:PT1H
BEGIN:VTIMEZONE
TZID:America/Denver
BEGIN:DAYLIGHT
TZOFFSETFROM:-0700
TZOFFSETTO:-0600
TZNAME:MDT
DTSTART:20240310T090000
END:DAYLIGHT
BEGIN:STANDARD
TZOFFSETFROM:-0600
TZOFFSETTO:-0700
TZNAME:MST
DTSTART:20241103T080000
END:STANDARD
BEGIN:DAYLIGHT
TZOFFSETFROM:-0700
TZOFFSETTO:-0600
TZNAME:MDT
DTSTART:20250309T090000
END:DAYLIGHT
BEGIN:STANDARD
TZOFFSETFROM:-0600
TZOFFSETTO:-0700
TZNAME:MST
DTSTART:20251102T080000
END:STANDARD
BEGIN:DAYLIGHT
TZOFFSETFROM:-0700
TZOFFSETTO:-0600
TZNAME:MDT
DTSTART:20260308T090000
END:DAYLIGHT
BEGIN:STANDARD
TZOFFSETFROM:-0600
TZOFFSETTO:-0700
TZNAME:MST
DTSTART:20261101T080000
END:STANDARD
END:VTIMEZONE
BEGIN:VEVENT
DTSTART;TZID=America/Denver:20251102T160000
DTEND;TZID=America/Denver:20251102T200000
DTSTAMP:20260422T080840
CREATED:20250903T164906Z
LAST-MODIFIED:20250903T164906Z
UID:10000846-1762099200-1762113600@mmwaz.com
SUMMARY:Potter Pizza Party at Main Event
DESCRIPTION:Students and families are welcome to join us for a fun evening of games\, bowling\, pizza and fun! \nFees includes \n\nAll you can play activities for 4 hours\nAn hour of bowling\n$10 fun card\nLaser tag\n2 slices of cheese pizza and soda\n\nParental supervision is mandatory. \nRegistration fee is required for anyone who wishes to participate (family members welcome to join). \nThis is a great opportunity to connect and celebrate this quarter’s achievements! \nRegister here
URL:https://mmwaz.com/events-2/potter-pizza-party-at-main-event-2/
LOCATION:Main Event Tempe\, 8545 S Emerald Dr\, Tempe\, 85284\, United States
CATEGORIES:Potter Party
ATTACH;FMTTYPE=image/jpeg:https://mmwaz.com/wp-content/uploads/2025/09/Potter-Flyer-9.jpg
END:VEVENT
BEGIN:VEVENT
DTSTART;TZID=America/Denver:20251116T140000
DTEND;TZID=America/Denver:20251116T190000
DTSTAMP:20260422T080840
CREATED:20250814T203241Z
LAST-MODIFIED:20251112T145020Z
UID:10000845-1763301600-1763319600@mmwaz.com
SUMMARY:Fall Rock Show at QuartHaus
DESCRIPTION:Rock the Night at QuartHaus!Join us Sunday\, November 16th at QuartHaus in downtown Chandler for an unforgettable evening of live music\, craft drinks\, and great vibes. The stage will be rocking from 2-7pm\, so grab your friends\, enjoy 25+ beers and wines on tap\, and soak in the outdoor beer-garden atmosphere. \nNo cover charge. Good tunes guaranteed. 🍻
URL:https://mmwaz.com/events-2/fall-rock-show-at-quart-haus/
LOCATION:201 S Washington St\, Chandler\, AZ 85225\, 201 S Washington St\,\, Chandler\, AZ\, 85225\, United States
CATEGORIES:Rock Band
ATTACH;FMTTYPE=image/jpeg:https://mmwaz.com/wp-content/uploads/2025/08/Music-Makers-Rock-Bands-355.jpg
ORGANIZER;CN="Music Maker Workshops":MAILTO:lessons@mmwaz.com
END:VEVENT
BEGIN:VEVENT
DTSTART;VALUE=DATE:20251127
DTEND;VALUE=DATE:20251129
DTSTAMP:20260422T080840
CREATED:20250903T165845Z
LAST-MODIFIED:20250903T165845Z
UID:10000848-1764201600-1764374399@mmwaz.com
SUMMARY:Thanksgiving Week Hours
DESCRIPTION:The studio will be closed November 27th + 28th for Thanksgiving.
URL:https://mmwaz.com/events-2/thanksgiving-week-hours/
ATTACH;FMTTYPE=image/jpeg:https://mmwaz.com/wp-content/uploads/2025/09/Closed-Post-8.jpg
END:VEVENT
END:VCALENDAR