BEGIN:VCALENDAR
VERSION:2.0
PRODID:-//Music Maker Workshops - ECPv6.15.20//NONSGML v1.0//EN
CALSCALE:GREGORIAN
METHOD:PUBLISH
X-WR-CALNAME:Music Maker Workshops
X-ORIGINAL-URL:https://mmwaz.com
X-WR-CALDESC:Events for Music Maker Workshops
REFRESH-INTERVAL;VALUE=DURATION:PT1H
X-Robots-Tag:noindex
X-PUBLISHED-TTL:PT1H
BEGIN:VTIMEZONE
TZID:America/Denver
BEGIN:DAYLIGHT
TZOFFSETFROM:-0700
TZOFFSETTO:-0600
TZNAME:MDT
DTSTART:20240310T090000
END:DAYLIGHT
BEGIN:STANDARD
TZOFFSETFROM:-0600
TZOFFSETTO:-0700
TZNAME:MST
DTSTART:20241103T080000
END:STANDARD
BEGIN:DAYLIGHT
TZOFFSETFROM:-0700
TZOFFSETTO:-0600
TZNAME:MDT
DTSTART:20250309T090000
END:DAYLIGHT
BEGIN:STANDARD
TZOFFSETFROM:-0600
TZOFFSETTO:-0700
TZNAME:MST
DTSTART:20251102T080000
END:STANDARD
BEGIN:DAYLIGHT
TZOFFSETFROM:-0700
TZOFFSETTO:-0600
TZNAME:MDT
DTSTART:20260308T090000
END:DAYLIGHT
BEGIN:STANDARD
TZOFFSETFROM:-0600
TZOFFSETTO:-0700
TZNAME:MST
DTSTART:20261101T080000
END:STANDARD
END:VTIMEZONE
BEGIN:VEVENT
DTSTART;TZID=America/Denver:20250714T090000
DTEND;TZID=America/Denver:20250717T120000
DTSTAMP:20260422T034308
CREATED:20250310T185309Z
LAST-MODIFIED:20250627T013009Z
UID:10000393-1752483600-1752753600@mmwaz.com
SUMMARY:Summer Music Camp!
DESCRIPTION:Summer Camps\n\n\nSummer Music Camps For Kids Ages 5-9 \nSpark your child’s creativity with Morning Music Camp!\nThis unique camp allows students to choose 3 instruments to learn: Piano\, Ukulele/Guitar\, Violin\, Voice\, or Drums.\nCampers receive a lanyard with the instrument lineup on day 1 and rotate into three smaller group lessons throughout each day.\nAdditional activities include teacher features\, themed crafts\, and fun games to make this an exciting and engaging way to spend each morning!\nMusic Maker Workshops is in Ahwatukee on the SE corner of Chandler Blvd and 32nd Street. \nJuly theme: Treasure Island \n\nDetails\n\n\nWhere: Music Maker Workshops\nAges: Designed for ages 5-9\nSessions: Monday-Thursday\nDates: July 14-17\nTime: 9:00 AM -12:00 PM\nCost: $225 per session\nAddress: 3233 E. Chandler Blvd\, Suite #2 Phoenix\, AZ 85048\nPhone: (480) 706-1224\nLimited Space/First Come\, First Serve
URL:https://mmwaz.com/events-2/summer-music-camp-3/
CATEGORIES:Summer Music Camp
ATTACH;FMTTYPE=image/jpeg:https://mmwaz.com/wp-content/uploads/2025/03/eyJidWNrZXQiOiJpbWFnZXMub3B1czEuaW8iLCJrZXkiOiJzaGFyZWQvMmNhNzBlNTAtZmYxOC00MjA5LWJlZDgtYjY3YjAzYWJjNzQzIn0-scaled.jpg
ORGANIZER;CN="Music Maker Workshops":MAILTO:lessons@mmwaz.com
END:VEVENT
BEGIN:VEVENT
DTSTART;TZID=America/Denver:20250720T170000
DTEND;TZID=America/Denver:20250720T183000
DTSTAMP:20260422T034308
CREATED:20250529T012722Z
LAST-MODIFIED:20250714T015936Z
UID:10000453-1753030800-1753036200@mmwaz.com
SUMMARY:Organ Stop Summer Pizza Party
DESCRIPTION:Join us for a fun-filled party at Organ Stop Pizza\, hosted by Music Makers! Enjoy delicious pizza and unforgettable live music played on the world’s largest Wurlitzer pipe organ. It’s a perfect way to celebrate our musical community with food\, friends\, and phenomenal entertainment—don’t miss it! \nOrgan Stop Pizza opened in Phoenix in 1972\, featuring a Wurlitzer pipe organ originally built for Grauman’s Egyptian Theater. Its success led to a second location in Mesa in 1975\, which now houses the largest Wurlitzer pipe organ in the world. After changes in ownership and a move to a larger custom-built facility in 1995\, the Mesa location has become a world-renowned attraction\, drawing hundreds of thousands of visitors annually. \nAddress: 1149 E Southern Ave\, Mesa\, AZ 85204 \nhttps://musicmakerworkshops.opus1.io/w/organstoppizzaparty
URL:https://mmwaz.com/events-2/organ-stop-pizza-party/
LOCATION:1149 E Southern Ave\, Mesa\, AZ 85204\, 1149 E Southern Ave\,\, Mesa\, AZ\, 85204\, United States
CATEGORIES:Studio Event
ATTACH;FMTTYPE=image/jpeg:https://mmwaz.com/wp-content/uploads/2025/05/caption.jpg
END:VEVENT
END:VCALENDAR