BEGIN:VCALENDAR
VERSION:2.0
PRODID:-//Music Maker Workshops - ECPv6.15.20//NONSGML v1.0//EN
CALSCALE:GREGORIAN
METHOD:PUBLISH
X-WR-CALNAME:Music Maker Workshops
X-ORIGINAL-URL:https://mmwaz.com
X-WR-CALDESC:Events for Music Maker Workshops
REFRESH-INTERVAL;VALUE=DURATION:PT1H
X-Robots-Tag:noindex
X-PUBLISHED-TTL:PT1H
BEGIN:VTIMEZONE
TZID:America/Denver
BEGIN:DAYLIGHT
TZOFFSETFROM:-0700
TZOFFSETTO:-0600
TZNAME:MDT
DTSTART:20240310T090000
END:DAYLIGHT
BEGIN:STANDARD
TZOFFSETFROM:-0600
TZOFFSETTO:-0700
TZNAME:MST
DTSTART:20241103T080000
END:STANDARD
BEGIN:DAYLIGHT
TZOFFSETFROM:-0700
TZOFFSETTO:-0600
TZNAME:MDT
DTSTART:20250309T090000
END:DAYLIGHT
BEGIN:STANDARD
TZOFFSETFROM:-0600
TZOFFSETTO:-0700
TZNAME:MST
DTSTART:20251102T080000
END:STANDARD
BEGIN:DAYLIGHT
TZOFFSETFROM:-0700
TZOFFSETTO:-0600
TZNAME:MDT
DTSTART:20260308T090000
END:DAYLIGHT
BEGIN:STANDARD
TZOFFSETFROM:-0600
TZOFFSETTO:-0700
TZNAME:MST
DTSTART:20261101T080000
END:STANDARD
BEGIN:DAYLIGHT
TZOFFSETFROM:-0700
TZOFFSETTO:-0600
TZNAME:MDT
DTSTART:20270314T090000
END:DAYLIGHT
BEGIN:STANDARD
TZOFFSETFROM:-0600
TZOFFSETTO:-0700
TZNAME:MST
DTSTART:20271107T080000
END:STANDARD
END:VTIMEZONE
BEGIN:VEVENT
DTSTART;TZID=America/Denver:20251102T160000
DTEND;TZID=America/Denver:20251102T200000
DTSTAMP:20260422T160047
CREATED:20250903T164906Z
LAST-MODIFIED:20250903T164906Z
UID:10000846-1762099200-1762113600@mmwaz.com
SUMMARY:Potter Pizza Party at Main Event
DESCRIPTION:Students and families are welcome to join us for a fun evening of games\, bowling\, pizza and fun! \nFees includes \n\nAll you can play activities for 4 hours\nAn hour of bowling\n$10 fun card\nLaser tag\n2 slices of cheese pizza and soda\n\nParental supervision is mandatory. \nRegistration fee is required for anyone who wishes to participate (family members welcome to join). \nThis is a great opportunity to connect and celebrate this quarter’s achievements! \nRegister here
URL:https://mmwaz.com/events-2/potter-pizza-party-at-main-event-2/
LOCATION:Main Event Tempe\, 8545 S Emerald Dr\, Tempe\, 85284\, United States
CATEGORIES:Potter Party
ATTACH;FMTTYPE=image/jpeg:https://mmwaz.com/wp-content/uploads/2025/09/Potter-Flyer-9.jpg
END:VEVENT
BEGIN:VEVENT
DTSTART;TZID=America/Denver:20251116T140000
DTEND;TZID=America/Denver:20251116T190000
DTSTAMP:20260422T160047
CREATED:20250814T203241Z
LAST-MODIFIED:20251112T145020Z
UID:10000845-1763301600-1763319600@mmwaz.com
SUMMARY:Fall Rock Show at QuartHaus
DESCRIPTION:Rock the Night at QuartHaus!Join us Sunday\, November 16th at QuartHaus in downtown Chandler for an unforgettable evening of live music\, craft drinks\, and great vibes. The stage will be rocking from 2-7pm\, so grab your friends\, enjoy 25+ beers and wines on tap\, and soak in the outdoor beer-garden atmosphere. \nNo cover charge. Good tunes guaranteed. 🍻
URL:https://mmwaz.com/events-2/fall-rock-show-at-quart-haus/
LOCATION:201 S Washington St\, Chandler\, AZ 85225\, 201 S Washington St\,\, Chandler\, AZ\, 85225\, United States
CATEGORIES:Rock Band
ATTACH;FMTTYPE=image/jpeg:https://mmwaz.com/wp-content/uploads/2025/08/Music-Makers-Rock-Bands-355.jpg
ORGANIZER;CN="Music Maker Workshops":MAILTO:lessons@mmwaz.com
END:VEVENT
BEGIN:VEVENT
DTSTART;VALUE=DATE:20251127
DTEND;VALUE=DATE:20251129
DTSTAMP:20260422T160047
CREATED:20250903T165845Z
LAST-MODIFIED:20250903T165845Z
UID:10000848-1764201600-1764374399@mmwaz.com
SUMMARY:Thanksgiving Week Hours
DESCRIPTION:The studio will be closed November 27th + 28th for Thanksgiving.
URL:https://mmwaz.com/events-2/thanksgiving-week-hours/
LOCATION:AZ
ATTACH;FMTTYPE=image/jpeg:https://mmwaz.com/wp-content/uploads/2025/09/Closed-Post-8.jpg
END:VEVENT
BEGIN:VEVENT
DTSTART;VALUE=DATE:20251212
DTEND;VALUE=DATE:20251215
DTSTAMP:20260422T160047
CREATED:20250721T215921Z
LAST-MODIFIED:20251209T210305Z
UID:10000476-1765497600-1765756799@mmwaz.com
SUMMARY:Winter Recitals
DESCRIPTION:RECITAL PROGRAM\nCOMPLIMENT EXCHANGE FORM\n\nRecital Times\nFriday\, December 12th\n#1) 5:00-6:00pm: Christian\, Clare\, Jacob\, Mikey\, Qi\n#2) 6:30-7:30pm: Clare\, Esther\, Christian\, Mikey\, Dr. Stephanie\n#3) 8:00-9:00pm: Christian\, Devin\, Mikey\, Kate\, Sean B \nSaturday\, December 13th\n#4) 11:30am-12:30pm: David\, Danny\, Joe\, Kaili\n#5) 1:00-2:00pm: Andrea\, Joe\, Kaili\, Sean K.\n#6) 2:30-3:30pm: Allison\, Andrea\, Kaili\, Dr. Kuo\, Dr. Steve\n#7) 4:00-5:00pm: Allison\, Andrea\, Devin\, Jenny\, Kaili\, Dr. Kuo\n#8) 5:30-6:30pm: Devin\, Emilee\, Jenny\, Kaili\, Dr. Kuo\, Dr. Stephanie \nSunday\, December 14th\n#9) 2:30-3:30pm: Allen\, Allison\, Chris\, Lane\, Sofia\n#10) 4:00-5:00pm: Allen\, Chris\, Esther\, Hyunsoo\, Romy\, Sofia\n#11) 5:30-6:30pm: Allen\, Corbin\, Esther\, Jenny\, Romy\, Sofia\, Soyoung\n#12) 7:00-8:00pm: Allen\, Corbin\, Esther\, Jenny\, Lane \n\nAbout\nWinter Recitals will be held December 12-14th at Esperanza Lutheran Church. \nJoin us at the Music Maker Workshops 2025 Winter Recitals\, held at Esperanza Lutheran Church. This exciting event showcases the musical talents of students of all ages\, featuring performances in piano\, guitar\, voice\, and more. Whether you’re a music enthusiast or a proud family member\, this family-friendly event is the perfect opportunity to support and enjoy the hard work and dedication of aspiring musicians. Experience the magic of live music in a welcoming community setting. Don’t miss this annual tradition that inspires a lifelong love for music. \n\nEach instructor is assigned to a specific recital\, students may register for whatever time suits their schedule as long as they do not need their instructor present. \n\n\nPlease register under your teacher’s time if you’re available (if the student doesn’t need their instructor’s assistance you may register for ANY recital time)\nNOTE: First Time Performers are required to register for their instructor’s recital time
URL:https://mmwaz.com/events-2/winter-recitals/
LOCATION:Esperanza Lutheran Church\, 2601 E Thunderhill Pl\, Phoenix\, AZ\, 85048
CATEGORIES:Recitals
ATTACH;FMTTYPE=image/jpeg:https://mmwaz.com/wp-content/uploads/2025/07/412891035_1122323742310017_6809887977353182400_n.jpg
END:VEVENT
BEGIN:VEVENT
DTSTART;VALUE=DATE:20251224
DTEND;VALUE=DATE:20260104
DTSTAMP:20260422T160047
CREATED:20250903T165702Z
LAST-MODIFIED:20251013T194617Z
UID:10000847-1766534400-1767484799@mmwaz.com
SUMMARY:Winter Break
DESCRIPTION:The studio will be closed December 24-January 3rd for Winter Break.
URL:https://mmwaz.com/events-2/winter-break/
LOCATION:AZ
CATEGORIES:Studio Closure
ATTACH;FMTTYPE=image/jpeg:https://mmwaz.com/wp-content/uploads/2025/09/1-4.jpg
END:VEVENT
BEGIN:VEVENT
DTSTART;TZID=America/Denver:20260201T120000
DTEND;TZID=America/Denver:20260201T160000
DTSTAMP:20260422T160047
CREATED:20251227T020237Z
LAST-MODIFIED:20251227T020237Z
UID:10000852-1769947200-1769961600@mmwaz.com
SUMMARY:8th Annual Drum Competition
DESCRIPTION:Join us for the drum event of the year! \nREGISTER AT Self Booking – Music Maker Workshops \nParticipants will receive feedback from a professional drum panel and trophies will be awarded for 1st\, 2nd and 3rd place in each category. \nCompetition songs may be up to 2 minutes in length for Division I + II\, 2.5 minutes for Divisions III + IV\, email mp3 to lessons@mmwaz.com \nStudents will be judged on: Memorization\, Technical Skills\, Artistry and Performance \n$10 cover at the door. \nDivision I: 12-1PM \nDivision II: 1-2PM \nDivision III: 2-3PM \nDivision IV: 3-4PM
URL:https://mmwaz.com/events-2/8th-annual-drum-competition/
LOCATION:Cactus Jacks Bar & Grill\, 4747 E Elliot Rd #5\, Phoenix\, 85044\, United States
CATEGORIES:Studio Event
ATTACH;FMTTYPE=image/jpeg:https://mmwaz.com/wp-content/uploads/2025/12/Drum-Competition-2024.pdf-7.jpg
ORGANIZER;CN="Music Maker Workshops":MAILTO:lessons@mmwaz.com
END:VEVENT
BEGIN:VEVENT
DTSTART;TZID=America/Denver:20260301T140000
DTEND;TZID=America/Denver:20260301T180000
DTSTAMP:20260422T160047
CREATED:20251227T020922Z
LAST-MODIFIED:20260216T192228Z
UID:10000853-1772373600-1772388000@mmwaz.com
SUMMARY:1st Annual Rock-N-Rescue
DESCRIPTION:Join us for a FREE community event! Get ready for a Puppy Photobooth\, where you can snap unforgettable photos with your cute four-legged friends or with our special guest\, St. Bernard\, Lola (from 2-3:30pm\, pictured below). We’ll also be hosting Puppy Adoption Stations in partnership with Labrador Retriever Rescue\, Maricopa County Animal Care & Control and Kai’s Place Cat Rescue\, giving families the chance to meet lovable dogs or cats who are looking for their forever homes. \nFor our younger guests\, we’ll have FREE kids’ activities throughout the event and a tropical sno truck for treats\, making this a perfect outing for the whole family. And of course\, it wouldn’t be Music Maker Workshops without music! Enjoy live performances featuring our very own MMW Rock Bands\, showcasing talented students rocking the stage with high-energy sets that are fun for all ages. Special guest Brenda Mulkey will be the day’s emcee! \nWhether you’re a music lover\, a dog lover\, or just looking for a joyful community event\, this is a day you won’t want to miss. Come support live music\, local rescue efforts\, and our amazing young musicians — and maybe even meet your new best furry friend! \nDate: Sunday\, March 1st\nTime: 2-6pm\nLocation: Music Maker Workshops plaza\nFriendly dogs are welcome to attend! \nPlease consider bringing a donation for the rescues\, items include: \nMaricopa County Animal Care + Control: \n\nDog collars\nDog leashes\nDog enrichment items and treats\nHot dogs\nDurable toys\nPuppy pads and newspaper\nFleece blankets\n\nKai’s Place Cat Rescue \nDesert Labrador Retriever Rescue \nLola:
URL:https://mmwaz.com/events-2/rocknrescue/
LOCATION:Music Maker Workshops\, 3233 . E Chandler Blvd\,\, Arizona\, AZ\, 85048\, United States
CATEGORIES:Rock Band,Studio Event
ATTACH;FMTTYPE=image/jpeg:https://mmwaz.com/wp-content/uploads/2025/12/1.jpg
END:VEVENT
BEGIN:VEVENT
DTSTART;VALUE=DATE:20260308
DTEND;VALUE=DATE:20260315
DTSTAMP:20260422T160047
CREATED:20251227T034431Z
LAST-MODIFIED:20260216T202727Z
UID:10000854-1772928000-1773532799@mmwaz.com
SUMMARY:Spring Break Closure
DESCRIPTION:The studio will be closed for Spring Break from March 8-14th
URL:https://mmwaz.com/events-2/spring-break-closure/
LOCATION:AZ
CATEGORIES:Studio Closure
ATTACH;FMTTYPE=image/jpeg:https://mmwaz.com/wp-content/uploads/2025/12/Black-White-Simple-Minimalist-Shop-Open-Closed-Poster-6-scaled.jpg
END:VEVENT
BEGIN:VEVENT
DTSTART;VALUE=DATE:20260316
DTEND;VALUE=DATE:20260323
DTSTAMP:20260422T160047
CREATED:20260228T044636Z
LAST-MODIFIED:20260304T212408Z
UID:10000862-1773619200-1774223999@mmwaz.com
SUMMARY:Student Appreciation Week
DESCRIPTION:Student Appreciation Week is here! \nWe love our amazing students and all the hard work they put into their music every week\, so we’re celebrating YOU! \nDuring the week of March 16th\, every student will receive a FREE Crumbl cookie as a small thank-you for being part of our studio family. \nTo make the week even more fun\, students are invited to bring a friend to their lesson to join in on the music and the celebration! \nThank you for making our studio such a fun\, creative\, and inspiring place every day. We appreciate you!
URL:https://mmwaz.com/events-2/student-appreciation-week-2/
LOCATION:Music Maker Workshops\, 3233 . E Chandler Blvd\,\, Arizona\, AZ\, 85048\, United States
CATEGORIES:Studio Event
ATTACH;FMTTYPE=image/jpeg:https://mmwaz.com/wp-content/uploads/2026/02/Black-White-Simple-Minimalist-Shop-Open-Closed-Poster-9-scaled.jpg
END:VEVENT
BEGIN:VEVENT
DTSTART;VALUE=DATE:20260508
DTEND;VALUE=DATE:20260510
DTSTAMP:20260422T160047
CREATED:20260216T203038Z
LAST-MODIFIED:20260416T174826Z
UID:10000856-1778198400-1778371199@mmwaz.com
SUMMARY:Spring Recitals
DESCRIPTION:Who:All MMW students of any instrument and age are invited. \nThis exciting event showcases the musical talents of students of all ages\, featuring performances in a variety of instruments. \n\n\nWhen: \nFriday\, May 8th \n5:00–6:00 PMTeachers: Cindy\, Clare\, Corbin\, Jacob\, Mikey \n6:30–7:30 PMTeachers: Esther\,  Mikey\, Qi \n8:00–9:00 PMTeachers: David\, Joe\, Mikey\, Romy\, Sean \n\nSaturday\, May 9th \n10:00–10:45 AMTeachers: Kaili\, Kate\, Sofia \n11:00 AM–12:00 PMTeachers: Kaili\, Kate\, Dr. Kuo\, Sofia \n12:30–1:30 PMTeachers: Andrea\, Dr. An\, Cindy\, Kaili\, Dr. Kuo\, Sofia \n2:00–3:00 PMTeachers: Andrea\, Emilee\, Kaili\, Sofia \n3:30–4:30 PMTeachers: Andrea\, Emilee\, Jenny\, Kaili\, Soyoung \n5:00–6:00 PMTeachers: Devin\, Jenny\, Kaili\, Romy\, Sean \n6:30–7:30 PMTeachers: Allen\, Devin\, Emilee\, Hyun Soo\, Jenny \n\n\nLocation:Ahwatukee – 2601 E Thunderhill Pl\, Phoenix\, AZ 85048 \nCost:$45 per performerFree for family & friends to attend \nIncludes:Reception with cake and juice to follow \n\nRegistration Link\nPlease register under your teacher’s time if you’re available (if the student doesn’t need their instructor’s assistance you may register for ANY recital time)\nNOTE: First Time Performers are required to register for their instructor’s recital time
URL:https://mmwaz.com/events-2/spring-recitals/
LOCATION:Esperanza Lutheran Church\, 2601 E Thunderhill Pl\, Phoenix\, AZ\, 85048
CATEGORIES:Recitals
ATTACH;FMTTYPE=image/jpeg:https://mmwaz.com/wp-content/uploads/2025/12/Black-White-Simple-Minimalist-Shop-Open-Closed-Poster-4-scaled.jpg
END:VEVENT
BEGIN:VEVENT
DTSTART;VALUE=DATE:20260510
DTEND;VALUE=DATE:20260511
DTSTAMP:20260422T160047
CREATED:20260216T203312Z
LAST-MODIFIED:20260324T213037Z
UID:10000857-1778371200-1778457599@mmwaz.com
SUMMARY:Honors Recitals
DESCRIPTION:Who:Students involved in the AZ Study Program or nominated by a teacher for outstanding achievement. \nEnjoy an inspiring program of fully acoustic performances featuring piano\, voice\, and more. \nWhether you’re a proud family member or simply love live music\, this is a wonderful opportunity to celebrate the dedication and artistry of our students in a beautiful\, intimate setting. \nPlease Note – No Young Children:The Organ Hall is a highly resonant space where even small sounds carry easily. To ensure the best experience for both performers and audience members\, we kindly ask that very young children not attend. \n\n\nWhen: \nSunday\, May 10th \n1:00–2:15 PM\nTeachers: Dr. Kuo\, Soyoung\, Lane \n2:30–3:45 PM\nTeachers: Esther\, Dr. Kuo\, Soyoung \n4:00–5:15 PM\nTeachers: Esther\, Dr. Stephanie\, Soyoung \n5:30–6:45 PM\nTeachers: Dani\, Esther\, Dr. Stephanie\, Soyoung \n\n\nLocation:ASU Music Building West – 50 E Gammage Pkwy\, Tempe\, AZ 85281 \nCost for Recital:$65 per performer$10 tickets for family and friendsPlease register attendees in advance by clicking here \nAccompaniment Fee (if needed):$70 – includes one rehearsal\, preparation\, and performance. A minimum of three weeks’ notice is required. Please have your teacher contact the front desk to make arrangements. \n\nRegistration Link
URL:https://mmwaz.com/events-2/honors-recitals/
LOCATION:ASU Organ Hall\, 50 Gammage Parkway\, Tempe\, AZ\, 85281\, United States
CATEGORIES:Recitals
ATTACH;FMTTYPE=image/jpeg:https://mmwaz.com/wp-content/uploads/2025/12/Black-White-Simple-Minimalist-Shop-Open-Closed-Poster-5-scaled.jpg
END:VEVENT
BEGIN:VEVENT
DTSTART;VALUE=DATE:20260515
DTEND;VALUE=DATE:20260517
DTSTAMP:20260422T160047
CREATED:20260421T040926Z
LAST-MODIFIED:20260421T041330Z
UID:10000864-1778803200-1778975999@mmwaz.com
SUMMARY:Arizona Study Program Competition
DESCRIPTION:
URL:https://mmwaz.com/events-2/arizona-study-program-competition/
LOCATION:AZ
CATEGORIES:Studio Event
ATTACH;FMTTYPE=image/jpeg:https://mmwaz.com/wp-content/uploads/2025/12/Black-White-Simple-Minimalist-Shop-Open-Closed-Poster-2-scaled.jpg
END:VEVENT
BEGIN:VEVENT
DTSTART;TZID=America/Denver:20260517T120000
DTEND;TZID=America/Denver:20260517T170000
DTSTAMP:20260422T160047
CREATED:20260108T190131Z
LAST-MODIFIED:20260216T202832Z
UID:10000855-1779019200-1779037200@mmwaz.com
SUMMARY:Spring Rock Show at Cactus Jacks
DESCRIPTION:Join us at Cactus Jacks on Sunday\, May 17th for the Spring Rock Band Show! \nTime: 12-5PM \nLocation: Cactus Jacks Bar + Grill \nFeaturing MMW Rock Bands \n$10/door \nFriends + Family are welcome to attend!
URL:https://mmwaz.com/events-2/spring-rock-show-at-cactus-jacks/
LOCATION:Cactus Jacks Bar & Grill\, 4747 E Elliot Rd #5\, Phoenix\, 85044\, United States
CATEGORIES:Rock Band
ATTACH;FMTTYPE=image/jpeg:https://mmwaz.com/wp-content/uploads/2025/12/Black-White-Simple-Minimalist-Shop-Open-Closed-Poster-1-scaled.jpg
ORGANIZER;CN="Music Maker Workshops":MAILTO:lessons@mmwaz.com
END:VEVENT
BEGIN:VEVENT
DTSTART;VALUE=DATE:20260525
DTEND;VALUE=DATE:20260526
DTSTAMP:20260422T160047
CREATED:20260216T203707Z
LAST-MODIFIED:20260216T203707Z
UID:10000858-1779667200-1779753599@mmwaz.com
SUMMARY:Memorial Day Closure
DESCRIPTION:The studio will be closed for Memorial Day on May 25th
URL:https://mmwaz.com/events-2/memorial-day-closure/
LOCATION:AZ
CATEGORIES:Studio Closure
ATTACH;FMTTYPE=image/jpeg:https://mmwaz.com/wp-content/uploads/2026/02/Black-White-Simple-Minimalist-Shop-Open-Closed-Poster-6-scaled.jpg
END:VEVENT
BEGIN:VEVENT
DTSTART;TZID=America/Denver:20260615T090000
DTEND;TZID=America/Denver:20260618T120000
DTSTAMP:20260422T160047
CREATED:20260216T210151Z
LAST-MODIFIED:20260327T222803Z
UID:10000860-1781514000-1781784000@mmwaz.com
SUMMARY:Summer Music Camps
DESCRIPTION:🎶☀️ Summer Music Camp is HERE! ☀️🎶 \nGet ready for four unforgettable mornings of music\, creativity\, and fun! Our beginner-friendly camp for ages 5–9 is the perfect way to spark a lifelong love of music in a high-energy\, hands-on environment. \nEach camper gets to choose THREE instruments to explore:🎹 Piano🎸 Guitar/Ukulele Combo🥁 Drums🎤 Voice \nEvery day is packed with:\nInstrument explorationCreative craftsSnack timeA special daily Teacher Feature performance \nWhether your child is brand new to music or ready to try something new\, this camp is designed to build confidence\, creativity\, and BIG smiles! \n🌊 Camp #1: Under the SeaJune 15–18 (Mon–Thurs)9:00 AM – NoonDive into ocean-inspired music\, splashy crafts\, and seaside sounds! \n🚀 Camp #2: Space RocksJuly 13–16 (Mon–Thurs)9:00 AM – NoonBlast off into a galaxy of sound with cosmic creativity and out-of-this-world fun! \nSpots fill quickly — reserve your camper’s place today and let the summer music magic begin! \nEarly bird registration – SAVE $25 by registering before April 1st! \nCLICK HERE TO REGISTER \n 
URL:https://mmwaz.com/events-2/morning-music-camps-2/
LOCATION:Music Maker Workshops\, 3233 . E Chandler Blvd\,\, Arizona\, AZ\, 85048\, United States
CATEGORIES:Summer Music Camp
ATTACH;FMTTYPE=image/jpeg:https://mmwaz.com/wp-content/uploads/2026/02/Black-White-Simple-Minimalist-Shop-Open-Closed-Poster-7-scaled.jpg
END:VEVENT
BEGIN:VEVENT
DTSTART;VALUE=DATE:20260629
DTEND;VALUE=DATE:20260706
DTSTAMP:20260422T160047
CREATED:20260418T023108Z
LAST-MODIFIED:20260418T023108Z
UID:10000863-1782691200-1783295999@mmwaz.com
SUMMARY:Summer Break Closure
DESCRIPTION:The studio will be closed for Summer Break from June 29-July 5th
URL:https://mmwaz.com/events-2/summer-break-closure/
LOCATION:AZ
CATEGORIES:Studio Closure
ATTACH;FMTTYPE=image/jpeg:https://mmwaz.com/wp-content/uploads/2026/04/Events--scaled.jpg
END:VEVENT
BEGIN:VEVENT
DTSTART;TZID=America/Denver:20260713T090000
DTEND;TZID=America/Denver:20260716T120000
DTSTAMP:20260422T160047
CREATED:20260216T210234Z
LAST-MODIFIED:20260418T023347Z
UID:10000861-1783933200-1784203200@mmwaz.com
SUMMARY:Summer Music Camps
DESCRIPTION:🎶☀️ Summer Music Camp is HERE! ☀️🎶 \nGet ready for four unforgettable mornings of music\, creativity\, and fun! Our beginner-friendly camp for ages 5–9 is the perfect way to spark a lifelong love of music in a high-energy\, hands-on environment. \nEach camper gets to choose THREE instruments to explore:🎹 Piano🎸 Guitar/Ukulele Combo🥁 Drums🎤 Voice \nEvery day is packed with:\nInstrument explorationCreative craftsSnack timeA special daily Teacher Feature performance \nWhether your child is brand new to music or ready to try something new\, this camp is designed to build confidence\, creativity\, and BIG smiles! \n🌊 Camp #1: Under the SeaJune 15–18 (Mon–Thurs)9:00 AM – NoonDive into ocean-inspired music\, splashy crafts\, and seaside sounds! \n🚀 Camp #2: Space RocksJuly 13–16 (Mon–Thurs)9:00 AM – NoonBlast off into a galaxy of sound with cosmic creativity and out-of-this-world fun! \nSpots fill quickly — reserve your camper’s place today and let the summer music magic begin! \nEarly bird registration – SAVE $25 by registering before April 1st! \nCLICK HERE TO REGISTER \n 
URL:https://mmwaz.com/events-2/morning-music-camps-3/
LOCATION:Music Maker Workshops\, 3233 . E Chandler Blvd\,\, Arizona\, AZ\, 85048\, United States
CATEGORIES:Summer Music Camp
ATTACH;FMTTYPE=image/jpeg:https://mmwaz.com/wp-content/uploads/2026/02/Events-1-scaled.jpg
END:VEVENT
END:VCALENDAR