BEGIN:VCALENDAR
VERSION:2.0
PRODID:-//Music Maker Workshops - ECPv6.15.20//NONSGML v1.0//EN
CALSCALE:GREGORIAN
METHOD:PUBLISH
X-WR-CALNAME:Music Maker Workshops
X-ORIGINAL-URL:https://mmwaz.com
X-WR-CALDESC:Events for Music Maker Workshops
REFRESH-INTERVAL;VALUE=DURATION:PT1H
X-Robots-Tag:noindex
X-PUBLISHED-TTL:PT1H
BEGIN:VTIMEZONE
TZID:America/Denver
BEGIN:DAYLIGHT
TZOFFSETFROM:-0700
TZOFFSETTO:-0600
TZNAME:MDT
DTSTART:20250309T090000
END:DAYLIGHT
BEGIN:STANDARD
TZOFFSETFROM:-0600
TZOFFSETTO:-0700
TZNAME:MST
DTSTART:20251102T080000
END:STANDARD
BEGIN:DAYLIGHT
TZOFFSETFROM:-0700
TZOFFSETTO:-0600
TZNAME:MDT
DTSTART:20260308T090000
END:DAYLIGHT
BEGIN:STANDARD
TZOFFSETFROM:-0600
TZOFFSETTO:-0700
TZNAME:MST
DTSTART:20261101T080000
END:STANDARD
BEGIN:DAYLIGHT
TZOFFSETFROM:-0700
TZOFFSETTO:-0600
TZNAME:MDT
DTSTART:20270314T090000
END:DAYLIGHT
BEGIN:STANDARD
TZOFFSETFROM:-0600
TZOFFSETTO:-0700
TZNAME:MST
DTSTART:20271107T080000
END:STANDARD
END:VTIMEZONE
BEGIN:VEVENT
DTSTART;VALUE=DATE:20260510
DTEND;VALUE=DATE:20260511
DTSTAMP:20260419T084506
CREATED:20260216T203312Z
LAST-MODIFIED:20260324T213037Z
UID:10000857-1778371200-1778457599@mmwaz.com
SUMMARY:Honors Recitals
DESCRIPTION:Who:Students involved in the AZ Study Program or nominated by a teacher for outstanding achievement. \nEnjoy an inspiring program of fully acoustic performances featuring piano\, voice\, and more. \nWhether you’re a proud family member or simply love live music\, this is a wonderful opportunity to celebrate the dedication and artistry of our students in a beautiful\, intimate setting. \nPlease Note – No Young Children:The Organ Hall is a highly resonant space where even small sounds carry easily. To ensure the best experience for both performers and audience members\, we kindly ask that very young children not attend. \n\n\nWhen: \nSunday\, May 10th \n1:00–2:15 PM\nTeachers: Dr. Kuo\, Soyoung\, Lane \n2:30–3:45 PM\nTeachers: Esther\, Dr. Kuo\, Soyoung \n4:00–5:15 PM\nTeachers: Esther\, Dr. Stephanie\, Soyoung \n5:30–6:45 PM\nTeachers: Dani\, Esther\, Dr. Stephanie\, Soyoung \n\n\nLocation:ASU Music Building West – 50 E Gammage Pkwy\, Tempe\, AZ 85281 \nCost for Recital:$65 per performer$10 tickets for family and friendsPlease register attendees in advance by clicking here \nAccompaniment Fee (if needed):$70 – includes one rehearsal\, preparation\, and performance. A minimum of three weeks’ notice is required. Please have your teacher contact the front desk to make arrangements. \n\nRegistration Link
URL:https://mmwaz.com/events-2/honors-recitals/
LOCATION:ASU Organ Hall\, 50 Gammage Parkway\, Tempe\, AZ\, 85281\, United States
CATEGORIES:Recitals
ATTACH;FMTTYPE=image/jpeg:https://mmwaz.com/wp-content/uploads/2025/12/Black-White-Simple-Minimalist-Shop-Open-Closed-Poster-5-scaled.jpg
END:VEVENT
END:VCALENDAR