BEGIN:VCALENDAR
VERSION:2.0
PRODID:-//Music Maker Workshops - ECPv6.15.20//NONSGML v1.0//EN
CALSCALE:GREGORIAN
METHOD:PUBLISH
X-WR-CALNAME:Music Maker Workshops
X-ORIGINAL-URL:https://mmwaz.com
X-WR-CALDESC:Events for Music Maker Workshops
REFRESH-INTERVAL;VALUE=DURATION:PT1H
X-Robots-Tag:noindex
X-PUBLISHED-TTL:PT1H
BEGIN:VTIMEZONE
TZID:America/Denver
BEGIN:DAYLIGHT
TZOFFSETFROM:-0700
TZOFFSETTO:-0600
TZNAME:MDT
DTSTART:20250309T090000
END:DAYLIGHT
BEGIN:STANDARD
TZOFFSETFROM:-0600
TZOFFSETTO:-0700
TZNAME:MST
DTSTART:20251102T080000
END:STANDARD
BEGIN:DAYLIGHT
TZOFFSETFROM:-0700
TZOFFSETTO:-0600
TZNAME:MDT
DTSTART:20260308T090000
END:DAYLIGHT
BEGIN:STANDARD
TZOFFSETFROM:-0600
TZOFFSETTO:-0700
TZNAME:MST
DTSTART:20261101T080000
END:STANDARD
BEGIN:DAYLIGHT
TZOFFSETFROM:-0700
TZOFFSETTO:-0600
TZNAME:MDT
DTSTART:20270314T090000
END:DAYLIGHT
BEGIN:STANDARD
TZOFFSETFROM:-0600
TZOFFSETTO:-0700
TZNAME:MST
DTSTART:20271107T080000
END:STANDARD
END:VTIMEZONE
BEGIN:VEVENT
DTSTART;VALUE=DATE:20260508
DTEND;VALUE=DATE:20260510
DTSTAMP:20260419T070321
CREATED:20260216T203038Z
LAST-MODIFIED:20260416T174826Z
UID:10000856-1778198400-1778371199@mmwaz.com
SUMMARY:Spring Recitals
DESCRIPTION:Who:All MMW students of any instrument and age are invited. \nThis exciting event showcases the musical talents of students of all ages\, featuring performances in a variety of instruments. \n\n\nWhen: \nFriday\, May 8th \n5:00–6:00 PMTeachers: Cindy\, Clare\, Corbin\, Jacob\, Mikey \n6:30–7:30 PMTeachers: Esther\,  Mikey\, Qi \n8:00–9:00 PMTeachers: David\, Joe\, Mikey\, Romy\, Sean \n\nSaturday\, May 9th \n10:00–10:45 AMTeachers: Kaili\, Kate\, Sofia \n11:00 AM–12:00 PMTeachers: Kaili\, Kate\, Dr. Kuo\, Sofia \n12:30–1:30 PMTeachers: Andrea\, Dr. An\, Cindy\, Kaili\, Dr. Kuo\, Sofia \n2:00–3:00 PMTeachers: Andrea\, Emilee\, Kaili\, Sofia \n3:30–4:30 PMTeachers: Andrea\, Emilee\, Jenny\, Kaili\, Soyoung \n5:00–6:00 PMTeachers: Devin\, Jenny\, Kaili\, Romy\, Sean \n6:30–7:30 PMTeachers: Allen\, Devin\, Emilee\, Hyun Soo\, Jenny \n\n\nLocation:Ahwatukee – 2601 E Thunderhill Pl\, Phoenix\, AZ 85048 \nCost:$45 per performerFree for family & friends to attend \nIncludes:Reception with cake and juice to follow \n\nRegistration Link\nPlease register under your teacher’s time if you’re available (if the student doesn’t need their instructor’s assistance you may register for ANY recital time)\nNOTE: First Time Performers are required to register for their instructor’s recital time
URL:https://mmwaz.com/events-2/spring-recitals/
LOCATION:Esperanza Lutheran Church\, 2601 E Thunderhill Pl\, Phoenix\, AZ\, 85048
CATEGORIES:Recitals
ATTACH;FMTTYPE=image/jpeg:https://mmwaz.com/wp-content/uploads/2025/12/Black-White-Simple-Minimalist-Shop-Open-Closed-Poster-4-scaled.jpg
END:VEVENT
END:VCALENDAR