BEGIN:VCALENDAR
VERSION:2.0
PRODID:-//Music Maker Workshops - ECPv6.15.20//NONSGML v1.0//EN
CALSCALE:GREGORIAN
METHOD:PUBLISH
X-ORIGINAL-URL:https://mmwaz.com
X-WR-CALDESC:Events for Music Maker Workshops
REFRESH-INTERVAL;VALUE=DURATION:PT1H
X-Robots-Tag:noindex
X-PUBLISHED-TTL:PT1H
BEGIN:VTIMEZONE
TZID:America/Denver
BEGIN:DAYLIGHT
TZOFFSETFROM:-0700
TZOFFSETTO:-0600
TZNAME:MDT
DTSTART:20240310T090000
END:DAYLIGHT
BEGIN:STANDARD
TZOFFSETFROM:-0600
TZOFFSETTO:-0700
TZNAME:MST
DTSTART:20241103T080000
END:STANDARD
BEGIN:DAYLIGHT
TZOFFSETFROM:-0700
TZOFFSETTO:-0600
TZNAME:MDT
DTSTART:20250309T090000
END:DAYLIGHT
BEGIN:STANDARD
TZOFFSETFROM:-0600
TZOFFSETTO:-0700
TZNAME:MST
DTSTART:20251102T080000
END:STANDARD
BEGIN:DAYLIGHT
TZOFFSETFROM:-0700
TZOFFSETTO:-0600
TZNAME:MDT
DTSTART:20260308T090000
END:DAYLIGHT
BEGIN:STANDARD
TZOFFSETFROM:-0600
TZOFFSETTO:-0700
TZNAME:MST
DTSTART:20261101T080000
END:STANDARD
END:VTIMEZONE
BEGIN:VEVENT
DTSTART;VALUE=DATE:20250509
DTEND;VALUE=DATE:20250512
DTSTAMP:20260419T234750
CREATED:20250306T183519Z
LAST-MODIFIED:20250508T215216Z
UID:10000386-1746748800-1747007999@mmwaz.com
SUMMARY:Spring Recitals 2025
DESCRIPTION:RECITAL PROGRAM \nCOMPLIMENT EXCHANGE FORM \nJoin us at the Music Maker Workshops 2025 Spring Recitals\, held at Esperanza Lutheran Church. This exciting event showcases the musical talents of students of all ages\, featuring performances in piano\, guitar\, voice\, and more. Whether you’re a music enthusiast or a proud family member\, this family-friendly event is the perfect opportunity to support and enjoy the hard work and dedication of aspiring musicians. Experience the magic of live music in a welcoming community setting. Don’t miss this annual tradition that inspires a lifelong love for music. \nAbout\n\nNote: Students performing in their first recital are required to register for a recital that their instructor will be present for \nEach instructor is assigned to a specific recital\, students may register for whatever time suits their schedule as long as they do not need their instructor present. \nRecital Times\nNote: Students performing in their first recital are required to register for a recital that their instructor will be present for \nEach instructor is assigned to a specific recital\, students may register for whatever time suits their schedule as long as they do not need their instructor present. \nFriday\, May 9th\n#1) 5:00-6:00pm: Ms. Cindy\, Mr. Christian\, Mr. Corbin\, Mr. Mikey\n#2) 6:30-7:30pm: Ms. Annie\, Mr. Christian\, Ms. Esther\, Mr. Mikey\, Ms. Qi\n#3) 8:00-8:30pm Adult Recital: Mr. Christian\, Mr. Mikey\, Dr. Stephanie\, Ms. Qi \nSaturday\, May 10th\n#4) 11:30am-12:30pm: Ms. Cindy\, Mr. David\, Ms. Jenny\, Ms. Kaili\, Ms. Kate\, Ms. Sofia\n#5) 1:00-2:00pm: Ms. Andrea\, Mr. David\, Ms. Jenny\, Ms. Sofia\n#6) 2:30-3:30pm: Ms. Allison\, Ms. Andrea\, Ms. Kaili\, Dr. Kuo\n#7) 4:00-5:00pm: Ms. Allison\, Ms. Andrea\, Ms. Annie\, Mr. Devin\, Ms. Emilee\, Dr. Kuo\n#8) 5:30-6:30pm Honors Recital: Mr. Devin\, Ms. Elizabeth\, Ms. Esther\, Ms. Kaili\, Dr. Kuo \n  \nMusic Maker Workshops Honors Recital Criteria\nStudents are selected by their teacher based on: Mastery of their recital piece. Memorization – All music must be performed from memory. No sheet music allowed on stage. Repertoire – Students will perform a well-prepared piece that highlights their musical ability. Pieces must not exceed 4.5 minutes in length. Audience Etiquette – Guests must remain quiet and respectful during performances to support the musicians. Please no young children. \n  \nSunday\, May 11th\n#9) 2:30-3:30pm: Mr. Allen\, Ms. Clare\, Mr. Devin\, Mr. Joe\n#10) 4:00-5:00pm: Mr. Allen\, Ms. Clare\, Ms. Esther\, Ms. Lane\, Dr. Stephanie\, Dr. Steve\n#11) 5:30-6:30pm: Mr. Allen\, Ms. Esther\, Ms. Jenny\, Ms. Romy \n  \nPlease register under your teacher’s time if you’re available (if the student doesn’t need their instructor’s assistance you may register for ANY recital time)\nNOTE: First Time Performers are required to register for their instructor’s recital time
URL:https://mmwaz.com/events-2/spring-recitals-2025/
LOCATION:Esperanza Lutheran Church\, 2601 E Thunderhill Pl\, Phoenix\, AZ\, 85048
CATEGORIES:Recitals
ATTACH;FMTTYPE=image/png:https://mmwaz.com/wp-content/uploads/2025/03/Spring-Recital-Poster-2025-816-x-1056-px-1-4.png
ORGANIZER;CN="Music Maker Workshops":MAILTO:lessons@mmwaz.com
END:VEVENT
END:VCALENDAR