BEGIN:VCALENDAR
VERSION:2.0
PRODID:-//Music Maker Workshops - ECPv6.15.20//NONSGML v1.0//EN
CALSCALE:GREGORIAN
METHOD:PUBLISH
X-WR-CALNAME:Music Maker Workshops
X-ORIGINAL-URL:https://mmwaz.com
X-WR-CALDESC:Events for Music Maker Workshops
REFRESH-INTERVAL;VALUE=DURATION:PT1H
X-Robots-Tag:noindex
X-PUBLISHED-TTL:PT1H
BEGIN:VTIMEZONE
TZID:America/Denver
BEGIN:DAYLIGHT
TZOFFSETFROM:-0700
TZOFFSETTO:-0600
TZNAME:MDT
DTSTART:20240310T090000
END:DAYLIGHT
BEGIN:STANDARD
TZOFFSETFROM:-0600
TZOFFSETTO:-0700
TZNAME:MST
DTSTART:20241103T080000
END:STANDARD
BEGIN:DAYLIGHT
TZOFFSETFROM:-0700
TZOFFSETTO:-0600
TZNAME:MDT
DTSTART:20250309T090000
END:DAYLIGHT
BEGIN:STANDARD
TZOFFSETFROM:-0600
TZOFFSETTO:-0700
TZNAME:MST
DTSTART:20251102T080000
END:STANDARD
BEGIN:DAYLIGHT
TZOFFSETFROM:-0700
TZOFFSETTO:-0600
TZNAME:MDT
DTSTART:20260308T090000
END:DAYLIGHT
BEGIN:STANDARD
TZOFFSETFROM:-0600
TZOFFSETTO:-0700
TZNAME:MST
DTSTART:20261101T080000
END:STANDARD
END:VTIMEZONE
BEGIN:VEVENT
DTSTART;VALUE=DATE:20250928
DTEND;VALUE=DATE:20251005
DTSTAMP:20260422T062411
CREATED:20250721T220324Z
LAST-MODIFIED:20250903T165940Z
UID:10000844-1759017600-1759622399@mmwaz.com
SUMMARY:Fall Break
DESCRIPTION:The studio will be closed for Fall Break\, September 28-October 4th.
URL:https://mmwaz.com/events-2/fall-break/
CATEGORIES:Studio Closure
ATTACH;FMTTYPE=image/jpeg:https://mmwaz.com/wp-content/uploads/2025/07/Closed-Post-7.jpg
END:VEVENT
END:VCALENDAR