BEGIN:VCALENDAR
VERSION:2.0
PRODID:-//Music Maker Workshops - ECPv6.15.20//NONSGML v1.0//EN
CALSCALE:GREGORIAN
METHOD:PUBLISH
X-ORIGINAL-URL:https://mmwaz.com
X-WR-CALDESC:Events for Music Maker Workshops
REFRESH-INTERVAL;VALUE=DURATION:PT1H
X-Robots-Tag:noindex
X-PUBLISHED-TTL:PT1H
BEGIN:VTIMEZONE
TZID:America/Denver
BEGIN:DAYLIGHT
TZOFFSETFROM:-0700
TZOFFSETTO:-0600
TZNAME:MDT
DTSTART:20240310T090000
END:DAYLIGHT
BEGIN:STANDARD
TZOFFSETFROM:-0600
TZOFFSETTO:-0700
TZNAME:MST
DTSTART:20241103T080000
END:STANDARD
BEGIN:DAYLIGHT
TZOFFSETFROM:-0700
TZOFFSETTO:-0600
TZNAME:MDT
DTSTART:20250309T090000
END:DAYLIGHT
BEGIN:STANDARD
TZOFFSETFROM:-0600
TZOFFSETTO:-0700
TZNAME:MST
DTSTART:20251102T080000
END:STANDARD
BEGIN:DAYLIGHT
TZOFFSETFROM:-0700
TZOFFSETTO:-0600
TZNAME:MDT
DTSTART:20260308T090000
END:DAYLIGHT
BEGIN:STANDARD
TZOFFSETFROM:-0600
TZOFFSETTO:-0700
TZNAME:MST
DTSTART:20261101T080000
END:STANDARD
END:VTIMEZONE
BEGIN:VEVENT
DTSTART;TZID=America/Denver:20250518T120000
DTEND;TZID=America/Denver:20250518T170000
DTSTAMP:20260422T105311
CREATED:20250305T022832Z
LAST-MODIFIED:20250305T023014Z
UID:10000383-1747569600-1747587600@mmwaz.com
SUMMARY:Spring Rock Band Concert at Cactus Jacks
DESCRIPTION:Music Maker Workshops presents our Spring Rock Band concert at Cactus Jacks in Ahwatukee.  Don’t miss an afternoon of high-energy performances\, electrifying guitar solos\, and unforgettable local music. Perfect for fans of live rock concerts and hometown talent\, this event promises a vibrant atmosphere and memorable entertainment for all ages. Mark your calendars and support Phoenix’s rising stars!
URL:https://mmwaz.com/events-2/spring-rock-band-concert-at-cactus-jacks/
CATEGORIES:Rock Band
ATTACH;FMTTYPE=image/jpeg:https://mmwaz.com/wp-content/uploads/2025/03/MMW-Presents.jpg
END:VEVENT
END:VCALENDAR