BEGIN:VCALENDAR
VERSION:2.0
PRODID:-//Music Maker Workshops - ECPv6.15.20//NONSGML v1.0//EN
CALSCALE:GREGORIAN
METHOD:PUBLISH
X-ORIGINAL-URL:https://mmwaz.com
X-WR-CALDESC:Events for Music Maker Workshops
REFRESH-INTERVAL;VALUE=DURATION:PT1H
X-Robots-Tag:noindex
X-PUBLISHED-TTL:PT1H
BEGIN:VTIMEZONE
TZID:America/Denver
BEGIN:DAYLIGHT
TZOFFSETFROM:-0700
TZOFFSETTO:-0600
TZNAME:MDT
DTSTART:20240310T090000
END:DAYLIGHT
BEGIN:STANDARD
TZOFFSETFROM:-0600
TZOFFSETTO:-0700
TZNAME:MST
DTSTART:20241103T080000
END:STANDARD
BEGIN:DAYLIGHT
TZOFFSETFROM:-0700
TZOFFSETTO:-0600
TZNAME:MDT
DTSTART:20250309T090000
END:DAYLIGHT
BEGIN:STANDARD
TZOFFSETFROM:-0600
TZOFFSETTO:-0700
TZNAME:MST
DTSTART:20251102T080000
END:STANDARD
BEGIN:DAYLIGHT
TZOFFSETFROM:-0700
TZOFFSETTO:-0600
TZNAME:MDT
DTSTART:20260308T090000
END:DAYLIGHT
BEGIN:STANDARD
TZOFFSETFROM:-0600
TZOFFSETTO:-0700
TZNAME:MST
DTSTART:20261101T080000
END:STANDARD
END:VTIMEZONE
BEGIN:VEVENT
DTSTART;VALUE=DATE:20250317
DTEND;VALUE=DATE:20250324
DTSTAMP:20260422T133515
CREATED:20250306T002324Z
LAST-MODIFIED:20250306T002324Z
UID:10000384-1742169600-1742774399@mmwaz.com
SUMMARY:Student Appreciation Week!
DESCRIPTION:Music Maker Workshops is proud to be voted “Best Music School” in Ahwatukee for the 10th year in a row! 🎶 This achievement reflects the dedication of our passionate teachers\, hardworking admin team\, and the incredible community of students and families who make Music Makers so special. We are beyond grateful for your support and trust over the years. As a small token of our appreciation\, enjoy a Crumbl cookie on us this week! 🍪❤️ Thank you for being part of our musical family!
URL:https://mmwaz.com/events-2/student-appreciation-week/
LOCATION:Music Maker Workshops\, 3233 . E Chandler Blvd\,\, Arizona\, AZ\, 85048\, United States
ATTACH;FMTTYPE=image/jpeg:https://mmwaz.com/wp-content/uploads/2025/03/Best-of-2.jpg
END:VEVENT
END:VCALENDAR