BEGIN:VCALENDAR
VERSION:2.0
PRODID:-//Music Maker Workshops - ECPv6.15.20//NONSGML v1.0//EN
CALSCALE:GREGORIAN
METHOD:PUBLISH
X-ORIGINAL-URL:https://mmwaz.com
X-WR-CALDESC:Events for Music Maker Workshops
REFRESH-INTERVAL;VALUE=DURATION:PT1H
X-Robots-Tag:noindex
X-PUBLISHED-TTL:PT1H
BEGIN:VTIMEZONE
TZID:America/Denver
BEGIN:DAYLIGHT
TZOFFSETFROM:-0700
TZOFFSETTO:-0600
TZNAME:MDT
DTSTART:20240310T090000
END:DAYLIGHT
BEGIN:STANDARD
TZOFFSETFROM:-0600
TZOFFSETTO:-0700
TZNAME:MST
DTSTART:20241103T080000
END:STANDARD
BEGIN:DAYLIGHT
TZOFFSETFROM:-0700
TZOFFSETTO:-0600
TZNAME:MDT
DTSTART:20250309T090000
END:DAYLIGHT
BEGIN:STANDARD
TZOFFSETFROM:-0600
TZOFFSETTO:-0700
TZNAME:MST
DTSTART:20251102T080000
END:STANDARD
BEGIN:DAYLIGHT
TZOFFSETFROM:-0700
TZOFFSETTO:-0600
TZNAME:MDT
DTSTART:20260308T090000
END:DAYLIGHT
BEGIN:STANDARD
TZOFFSETFROM:-0600
TZOFFSETTO:-0700
TZNAME:MST
DTSTART:20261101T080000
END:STANDARD
END:VTIMEZONE
BEGIN:VEVENT
DTSTART;VALUE=DATE:20250309
DTEND;VALUE=DATE:20250316
DTSTAMP:20260422T133514
CREATED:20250306T003029Z
LAST-MODIFIED:20250306T003029Z
UID:10000385-1741478400-1742083199@mmwaz.com
SUMMARY:Studio Closed for Spring Break
DESCRIPTION:📢 Spring Break Closure 🎶 \nMusic Maker Workshops will be closed March 9-15 for spring break! Enjoy the week off\, and we’ll see you back for lessons on March 16. Have a fantastic break! ☀️🎵
URL:https://mmwaz.com/events-2/studio-closed-for-spring-break/
LOCATION:Music Maker Workshops\, 3233 . E Chandler Blvd\,\, Arizona\, AZ\, 85048\, United States
CATEGORIES:Studio Closure
ATTACH;FMTTYPE=image/jpeg:https://mmwaz.com/wp-content/uploads/2025/03/closed-posts-8.5-×-11-in-Instagram-Post-Square-1.jpg
END:VEVENT
END:VCALENDAR